BEGIN:VCALENDAR
VERSION:2.0
PRODID:-//203.170.86.153//NONSGML kigkonsult.se iCalcreator 2.26.9//
CALSCALE:GREGORIAN
METHOD:PUBLISH
X-WR-CALNAME:The Embroiderers&rsquo\; Guild of SA
X-WR-CALDESC:
X-FROM-URL:http://www.embguildsa.org.au
X-WR-TIMEZONE:Australia/Adelaide
BEGIN:VTIMEZONE
TZID:Australia/Adelaide
X-LIC-LOCATION:Australia/Adelaide
BEGIN:STANDARD
DTSTART:20210404T030000
TZOFFSETFROM:+1030
TZOFFSETTO:+0930
RDATE:20220403T030000
TZNAME:ACST
END:STANDARD
BEGIN:DAYLIGHT
DTSTART:20201004T020000
TZOFFSETFROM:+0930
TZOFFSETTO:+1030
RDATE:20211003T020000
TZNAME:ACDT
END:DAYLIGHT
END:VTIMEZONE
BEGIN:VEVENT
UID:ai1ec-3364@www.embguildsa.org.au
DTSTAMP:20210301T080023Z
CATEGORIES:
CONTACT:
DESCRIPTION:The Metal Thread Group holds guidance days on the 2nd Friday of
  the month.\n​Experienced members are in attendance and the emphasis is on
  the sharing of ideas and expertise. Occasional formal workshops are held 
 to cater for any special interests of students. Beginners are encouraged a
 nd will be introduced to the technique.\nA starter kit of suitable materia
 ls is available at a small charge.\nSquare frames are essential and may be
  purchased on attendance if necessary.
DTSTART;TZID=Australia/Adelaide:20180309T103000
DTEND;TZID=Australia/Adelaide:20180309T143000
EXDATE;TZID=Australia/Adelaide:20200110T103000
EXDATE;TZID=Australia/Adelaide:20200410T103000
LOCATION:The Embroiderer's Guild @ 16 Hughes St\, Mile End SA 5031\, Austra
 lia
RRULE:FREQ=MONTHLY;BYDAY=2FR
SEQUENCE:0
SUMMARY:Metal Threads
URL:http://www.embguildsa.org.au/event/metal-threads/
X-COST-TYPE:free
X-ALT-DESC;FMTTYPE=text/html:<!DOCTYPE HTML PUBLIC '-//W3C//DTD HTML 3.2//E
 N'>\\n<HTML>\\n<HEAD>\\n<TITLE></TITLE>\\n</HEAD>\\n<BODY><p>The <strong>M
 etal Thread Group</strong> holds guidance days on the 2nd Friday of the mo
 nth.<br />\n​Experienced members are in attendance and the emphasis is on 
 the sharing of ideas and expertise. Occasional formal workshops are held t
 o cater for any special interests of students. Beginners are encouraged an
 d will be introduced to the technique.</p>\n<p>A starter kit of suitable m
 aterials is available at a small charge.<br />\nSquare frames are essentia
 l and may be purchased on attendance if necessary.</p>\n</BODY></HTML>
END:VEVENT
END:VCALENDAR
