BEGIN:VCALENDAR
VERSION:2.0
PRODID:-//203.170.86.153//NONSGML kigkonsult.se iCalcreator 2.26.9//
CALSCALE:GREGORIAN
METHOD:PUBLISH
X-WR-CALNAME:The Embroiderers&rsquo\; Guild of SA
X-WR-CALDESC:
X-FROM-URL:http://www.embguildsa.org.au
X-WR-TIMEZONE:Australia/Adelaide
BEGIN:VTIMEZONE
TZID:Australia/Adelaide
X-LIC-LOCATION:Australia/Adelaide
BEGIN:STANDARD
DTSTART:20210404T030000
TZOFFSETFROM:+1030
TZOFFSETTO:+0930
RDATE:20220403T030000
TZNAME:ACST
END:STANDARD
BEGIN:DAYLIGHT
DTSTART:20201004T020000
TZOFFSETFROM:+0930
TZOFFSETTO:+1030
RDATE:20211003T020000
TZNAME:ACDT
END:DAYLIGHT
END:VTIMEZONE
BEGIN:VEVENT
UID:ai1ec-2288@www.embguildsa.org.au
DTSTAMP:20210301T075605Z
CATEGORIES;LANGUAGE=en-AU:Muesum
CONTACT:
DESCRIPTION:
DTSTART;TZID=Australia/Adelaide:20180302T100000
DTEND;TZID=Australia/Adelaide:20180302T120000
EXDATE;TZID=Australia/Adelaide:20200103T100000
GEO:-34.924302;+138.577112
LOCATION:The Embroiderer's Guild @ 16 Hughes St\, Mile End SA 5031\, Austra
 lia
RRULE:FREQ=MONTHLY;BYDAY=1FR
SEQUENCE:0
SUMMARY:Museum Meeting
URL:http://www.embguildsa.org.au/event/museum-meeting/
X-COST-TYPE:free
END:VEVENT
END:VCALENDAR
