BEGIN:VCALENDAR
VERSION:2.0
PRODID:-//203.170.86.153//NONSGML kigkonsult.se iCalcreator 2.26.9//
CALSCALE:GREGORIAN
METHOD:PUBLISH
X-WR-CALNAME:The Embroiderers&rsquo\; Guild of SA
X-WR-CALDESC:
X-FROM-URL:http://www.embguildsa.org.au
X-WR-TIMEZONE:Australia/Adelaide
BEGIN:VTIMEZONE
TZID:Australia/Adelaide
X-LIC-LOCATION:Australia/Adelaide
BEGIN:STANDARD
DTSTART:20210404T030000
TZOFFSETFROM:+1030
TZOFFSETTO:+0930
RDATE:20220403T030000
TZNAME:ACST
END:STANDARD
BEGIN:DAYLIGHT
DTSTART:20201004T020000
TZOFFSETFROM:+0930
TZOFFSETTO:+1030
RDATE:20211003T020000
TZNAME:ACDT
END:DAYLIGHT
END:VTIMEZONE
BEGIN:VEVENT
UID:ai1ec-2256@www.embguildsa.org.au
DTSTAMP:20210301T075815Z
CATEGORIES:
CONTACT:
DESCRIPTION:Guidance Days are open to all members. Experienced embroiderers
  are in attendance in a voluntary capacity to offer assistance to those wh
 o come with their work. These are not formal teaching days but our volunte
 ers are quite happy to pass on tips and give guidance to less experienced 
 members in all aspects of embroidery.\nGuidance Days are held at 10.30am o
 n the 2nd Tuesday of the month.\nDemonstrations of various techniques are 
 held. Beginners are especially welcome.\nConvenor: Helen Crane
DTSTART;TZID=Australia/Adelaide:20180313T103000
DTEND;TZID=Australia/Adelaide:20180313T143000
GEO:-34.924302;+138.577112
LOCATION:The Embroiderer's Guild @ 16 Hughes St\, Mile End SA 5031\, Austra
 lia
RRULE:FREQ=MONTHLY;BYDAY=2TU
SEQUENCE:0
SUMMARY:Guidance Day
URL:http://www.embguildsa.org.au/event/guidance-day/
X-COST-TYPE:free
X-ALT-DESC;FMTTYPE=text/html:<!DOCTYPE HTML PUBLIC '-//W3C//DTD HTML 3.2//E
 N'>\\n<HTML>\\n<HEAD>\\n<TITLE></TITLE>\\n</HEAD>\\n<BODY><div class='wpb_
 text_column wpb_content_element '>\n<div class='wpb_wrapper'>\n<div class=
 'paragraph'>\n<p>Guidance Days are open to all members. Experienced embroi
 derers are in attendance in a voluntary capacity to offer assistance to th
 ose who come with their work. These are not formal teaching days but our v
 olunteers are quite happy to pass on tips and give guidance to less experi
 enced members in all aspects of embroidery.</p>\n<p>Guidance Days are held
  at 10.30am on the 2nd Tuesday of the month.</p>\n<p>Demonstrations of var
 ious techniques are held. Beginners are especially welcome.</p>\n<p>Conven
 or: Helen Crane</p>\n</div>\n</div>\n</div>\n</BODY></HTML>
END:VEVENT
END:VCALENDAR
