BEGIN:VCALENDAR
VERSION:2.0
PRODID:-//203.170.86.153//NONSGML kigkonsult.se iCalcreator 2.26.9//
CALSCALE:GREGORIAN
METHOD:PUBLISH
X-WR-CALNAME:The Embroiderers&rsquo\; Guild of SA
X-WR-CALDESC:
X-FROM-URL:http://www.embguildsa.org.au
X-WR-TIMEZONE:Australia/Adelaide
BEGIN:VTIMEZONE
TZID:Australia/Adelaide
X-LIC-LOCATION:Australia/Adelaide
BEGIN:STANDARD
DTSTART:20210404T030000
TZOFFSETFROM:+1030
TZOFFSETTO:+0930
RDATE:20220403T030000
TZNAME:ACST
END:STANDARD
BEGIN:DAYLIGHT
DTSTART:20201004T020000
TZOFFSETFROM:+0930
TZOFFSETTO:+1030
RDATE:20211003T020000
TZNAME:ACDT
END:DAYLIGHT
END:VTIMEZONE
BEGIN:VEVENT
UID:ai1ec-2254@www.embguildsa.org.au
DTSTAMP:20210301T080336Z
CATEGORIES:
CONTACT:
DESCRIPTION:The Japanese Embroidery Group meets at 9.30am on the 2nd Saturd
 ay of even months and the 4th Tuesday each month.This Group enjoys working
  with traditional techniques and designs to produce fine embroidery on sil
 k using silk and metallic threads.\n​ Convenor: Julie Bowd
DTSTART;TZID=Australia/Adelaide:20180414T110000
DTEND;TZID=Australia/Adelaide:20180414T150000
EXDATE;TZID=Australia/Adelaide:20200314T110000
GEO:-34.924302;+138.577112
LOCATION:The Embroiderer's Guild @ 16 Hughes St\, Mile End SA 5031\, Austra
 lia
RRULE:FREQ=MONTHLY;INTERVAL=2;BYDAY=2SA
SEQUENCE:0
SUMMARY:Japanese Silk Embroidery
URL:http://www.embguildsa.org.au/event/japanese-silk-embroidery-2/
X-COST-TYPE:free
X-ALT-DESC;FMTTYPE=text/html:<!DOCTYPE HTML PUBLIC '-//W3C//DTD HTML 3.2//E
 N'>\\n<HTML>\\n<HEAD>\\n<TITLE></TITLE>\\n</HEAD>\\n<BODY><p>The <strong>J
 apanese Embroidery Group</strong> meets at 9.30am on the 2nd Saturday of e
 ven months and the 4th Tuesday each month.This Group enjoys working with t
 raditional techniques and designs to produce fine embroidery on silk using
  silk and metallic threads.<br />\n​ Convenor: Julie Bowd</p>\n</BODY></HT
 ML>
END:VEVENT
END:VCALENDAR
