BEGIN:VCALENDAR
VERSION:2.0
PRODID:-//203.170.86.153//NONSGML kigkonsult.se iCalcreator 2.26.9//
CALSCALE:GREGORIAN
METHOD:PUBLISH
X-WR-CALNAME:The Embroiderers&rsquo\; Guild of SA
X-WR-CALDESC:
X-FROM-URL:http://www.embguildsa.org.au
X-WR-TIMEZONE:Australia/Adelaide
BEGIN:VTIMEZONE
TZID:Australia/Adelaide
X-LIC-LOCATION:Australia/Adelaide
BEGIN:STANDARD
DTSTART:20210404T030000
TZOFFSETFROM:+1030
TZOFFSETTO:+0930
RDATE:20220403T030000
TZNAME:ACST
END:STANDARD
BEGIN:DAYLIGHT
DTSTART:20201004T020000
TZOFFSETFROM:+0930
TZOFFSETTO:+1030
RDATE:20211003T020000
TZNAME:ACDT
END:DAYLIGHT
END:VTIMEZONE
BEGIN:VEVENT
UID:ai1ec-2252@www.embguildsa.org.au
DTSTAMP:20210301T075952Z
CATEGORIES:
CONTACT:
DESCRIPTION:<p>The <strong>Beading</strong><strong> Group</strong> holds gu
 idance days on the 2nd Friday of the month.<br />\n​Experienced members ar
 e in attendance and the emphasis is on the sharing of ideas and expertise.
  Occasional formal workshops are held to cater for any special interests o
 f students. Beginners are encouraged and will be introduced to the techniq
 ue.</p>\n<p>A starter kit of suitable materials is available at a small ch
 arge.<br />\nSquare frames are essential and may be purchased on attendanc
 e if necessary.</p>
DTSTART;TZID=Australia/Adelaide:20180309T103000
DTEND;TZID=Australia/Adelaide:20180309T143000
EXDATE;TZID=Australia/Adelaide:20200110T103000
EXDATE;TZID=Australia/Adelaide:20200410T103000
LOCATION:The Embroiderer's Guild @ 16 Hughes St\, Mile End SA 5031\, Austra
 lia
RRULE:FREQ=MONTHLY;BYDAY=2FR
SEQUENCE:0
SUMMARY:Beading
URL:http://www.embguildsa.org.au/event/beading/
X-COST-TYPE:free
END:VEVENT
END:VCALENDAR
