BEGIN:VCALENDAR
VERSION:2.0
PRODID:-//203.170.86.153//NONSGML kigkonsult.se iCalcreator 2.26.9//
CALSCALE:GREGORIAN
METHOD:PUBLISH
X-WR-CALNAME:The Embroiderers&rsquo\; Guild of SA
X-WR-CALDESC:
X-FROM-URL:http://www.embguildsa.org.au
X-WR-TIMEZONE:Australia/Adelaide
BEGIN:VTIMEZONE
TZID:Australia/Adelaide
X-LIC-LOCATION:Australia/Adelaide
BEGIN:STANDARD
DTSTART:20210404T030000
TZOFFSETFROM:+1030
TZOFFSETTO:+0930
RDATE:20220403T030000
TZNAME:ACST
END:STANDARD
BEGIN:DAYLIGHT
DTSTART:20201004T020000
TZOFFSETFROM:+0930
TZOFFSETTO:+1030
RDATE:20211003T020000
TZNAME:ACDT
END:DAYLIGHT
END:VTIMEZONE
BEGIN:VEVENT
UID:ai1ec-2249@www.embguildsa.org.au
DTSTAMP:20210301T075302Z
CATEGORIES:
CONTACT:
DESCRIPTION:The Linen Lace Group will appeal to members who are interested 
 in lace-like embroidery. This work is mainly done on woven and counted fab
 ric. Examples of this work are Cutwork\, Eyelet Work\, Hardanger\, Hedebo\
 , Pulled Fabric Work\, Drawn Thread Work and lace-making using a needle an
 d thread.\nThis Group meets on the 1st Tuesday of the month.\nConvenor: He
 len Crane
DTSTART;TZID=Australia/Adelaide:20180306T103000
DTEND;TZID=Australia/Adelaide:20180306T143000
GEO:-34.924302;+138.577112
LOCATION:The Embroiderer's Guild @ 16 Hughes St\, Mile End SA 5031\, Austra
 lia
RRULE:FREQ=MONTHLY;BYDAY=1TU
SEQUENCE:0
SUMMARY:Linen Lace Group
URL:http://www.embguildsa.org.au/event/linen-lace-group/
X-COST-TYPE:free
X-ALT-DESC;FMTTYPE=text/html:<!DOCTYPE HTML PUBLIC '-//W3C//DTD HTML 3.2//E
 N'>\\n<HTML>\\n<HEAD>\\n<TITLE></TITLE>\\n</HEAD>\\n<BODY><div class='para
 graph'>\n<p>The <strong>Linen Lace Group</strong> will appeal to members w
 ho are interested in lace-like embroidery. This work is mainly done on wov
 en and counted fabric. Examples of this work are Cutwork\, Eyelet Work\, H
 ardanger\, Hedebo\, Pulled Fabric Work\, Drawn Thread Work and lace-making
  using a needle and thread.</p>\n<p>This Group meets on the 1st Tuesday of
  the month.</p>\n<p>Convenor: Helen Crane</p>\n</div>\n</BODY></HTML>
END:VEVENT
END:VCALENDAR
