BEGIN:VCALENDAR
VERSION:2.0
PRODID:-//203.170.86.153//NONSGML kigkonsult.se iCalcreator 2.26.9//
CALSCALE:GREGORIAN
METHOD:PUBLISH
X-WR-CALNAME:The Embroiderers&rsquo\; Guild of SA
X-WR-CALDESC:
X-FROM-URL:http://www.embguildsa.org.au
X-WR-TIMEZONE:Australia/Adelaide
BEGIN:VTIMEZONE
TZID:Australia/Adelaide
X-LIC-LOCATION:Australia/Adelaide
BEGIN:STANDARD
DTSTART:20210404T030000
TZOFFSETFROM:+1030
TZOFFSETTO:+0930
RDATE:20220403T030000
TZNAME:ACST
END:STANDARD
BEGIN:DAYLIGHT
DTSTART:20201004T020000
TZOFFSETFROM:+0930
TZOFFSETTO:+1030
RDATE:20211003T020000
TZNAME:ACDT
END:DAYLIGHT
END:VTIMEZONE
BEGIN:VEVENT
UID:ai1ec-2242@www.embguildsa.org.au
DTSTAMP:20210301T075349Z
CATEGORIES:
CONTACT:
DESCRIPTION:The No Limits Group meets on the 1st Thursday of the month.\nIt
  is an enthusiastic Group for members interested in experimenting and crea
 ting with different techniques\, materials and ideas.\nConvenor: Sheana Da
 vies
DTSTART;TZID=Australia/Adelaide:20180405T103000
DTEND;TZID=Australia/Adelaide:20180405T143000
EXDATE;TZID=Australia/Adelaide:20200102T103000
LOCATION:The Embroiderer's Guild @ 16 Hughes St\, Mile End SA 5031\, Austra
 lia
RRULE:FREQ=MONTHLY;BYDAY=1TH
SEQUENCE:0
SUMMARY:No Limits
URL:http://www.embguildsa.org.au/event/no-limits/
X-COST-TYPE:free
X-ALT-DESC;FMTTYPE=text/html:<!DOCTYPE HTML PUBLIC '-//W3C//DTD HTML 3.2//E
 N'>\\n<HTML>\\n<HEAD>\\n<TITLE></TITLE>\\n</HEAD>\\n<BODY><p>The <strong>N
 o Limits Group</strong> meets on the 1st Thursday of the month.<br />\nIt 
 is an enthusiastic Group for members interested in experimenting and creat
 ing with different techniques\, materials and ideas.<br />\nConvenor: Shea
 na Davies</p>\n</BODY></HTML>
END:VEVENT
END:VCALENDAR
