BEGIN:VCALENDAR
VERSION:2.0
PRODID:-//203.170.86.153//NONSGML kigkonsult.se iCalcreator 2.26.9//
CALSCALE:GREGORIAN
METHOD:PUBLISH
X-WR-CALNAME:The Embroiderers&rsquo\; Guild of SA
X-WR-CALDESC:
X-FROM-URL:http://www.embguildsa.org.au
X-WR-TIMEZONE:Australia/Adelaide
BEGIN:VTIMEZONE
TZID:Australia/Adelaide
X-LIC-LOCATION:Australia/Adelaide
BEGIN:STANDARD
DTSTART:20210404T030000
TZOFFSETFROM:+1030
TZOFFSETTO:+0930
RDATE:20220403T030000
TZNAME:ACST
END:STANDARD
BEGIN:DAYLIGHT
DTSTART:20201004T020000
TZOFFSETFROM:+0930
TZOFFSETTO:+1030
RDATE:20211003T020000
TZNAME:ACDT
END:DAYLIGHT
END:VTIMEZONE
BEGIN:VEVENT
UID:ai1ec-2236@www.embguildsa.org.au
DTSTAMP:20210301T075434Z
CATEGORIES:
CONTACT:
DESCRIPTION:Open Days and Evenings are very informal. They were formed to e
 nable any member to bring their own work to the Guild to embroider in frie
 ndly company.\nMeeting times are Thursdays (10.30am – 2.30pm) and Thursday
  evenings (5.30pm – 9.30pm). Convenor: Mary Hall (evening)\nThe evening me
 etings have become very special to the members who are unable\, through wo
 rk or family commitments\, to attend during the day.
DTSTART;TZID=Australia/Adelaide:20180308T173000
DTEND;TZID=Australia/Adelaide:20180308T210000
EXDATE;TZID=Australia/Adelaide:20180118T173000
EXDATE;TZID=Australia/Adelaide:20191226T173000
GEO:-34.924302;+138.577112
LOCATION:The Embroiderer's Guild @ 16 Hughes St\, Mile End SA 5031\, Austra
 lia
RRULE:FREQ=WEEKLY;BYDAY=TH;WKST=MO
SEQUENCE:0
SUMMARY:Open Evening
URL:http://www.embguildsa.org.au/event/open-evening/
X-COST-TYPE:free
X-ALT-DESC;FMTTYPE=text/html:<!DOCTYPE HTML PUBLIC '-//W3C//DTD HTML 3.2//E
 N'>\\n<HTML>\\n<HEAD>\\n<TITLE></TITLE>\\n</HEAD>\\n<BODY><div class='wpb_
 text_column wpb_content_element '>\n<div class='wpb_wrapper'>\n<div class=
 'paragraph'>\n<p>Open Days and Evenings are very informal. They were forme
 d to enable any member to bring their own work to the Guild to embroider i
 n friendly company.</p>\n<p>Meeting times are Thursdays (10.30am – 2.30pm)
  and Thursday evenings (5.30pm – 9.30pm). Convenor: Mary Hall (evening)</p
 >\n<p>The evening meetings have become very special to the members who are
  unable\, through work or family commitments\, to attend during the day.</
 p>\n</div>\n</div>\n</div>\n</BODY></HTML>
END:VEVENT
END:VCALENDAR
